BEGIN:VCALENDAR
VERSION:2.0
PRODID:-//Rockvale Gun Club - ECPv6.0.13.1//NONSGML v1.0//EN
CALSCALE:GREGORIAN
METHOD:PUBLISH
X-WR-CALNAME:Rockvale Gun Club
X-ORIGINAL-URL:http://www.rockvalegunclub.com
X-WR-CALDESC:Events for Rockvale Gun Club
REFRESH-INTERVAL;VALUE=DURATION:PT1H
X-Robots-Tag:noindex
X-PUBLISHED-TTL:PT1H
BEGIN:VTIMEZONE
TZID:America/Denver
BEGIN:DAYLIGHT
TZOFFSETFROM:-0700
TZOFFSETTO:-0600
TZNAME:MDT
DTSTART:20240310T090000
END:DAYLIGHT
BEGIN:STANDARD
TZOFFSETFROM:-0600
TZOFFSETTO:-0700
TZNAME:MST
DTSTART:20241103T080000
END:STANDARD
END:VTIMEZONE
BEGIN:VEVENT
DTSTART;TZID=America/Denver:20240302T080000
DTEND;TZID=America/Denver:20240302T150000
DTSTAMP:20260422T162010
CREATED:20231217T224534Z
LAST-MODIFIED:20240315T233449Z
UID:2294-1709366400-1709391600@www.rockvalegunclub.com
SUMMARY:MARCH COLORADO COWBOYS CAS MATCH - Canceled.
DESCRIPTION:The Colorado Cowboys shoot on the 1st Saturday of the month\, year-round.  We are thankful to the Rockvale Bunch for allowing us to use their range. We look forward to putting on a great match for all cowboy shooters young and old alike.  So come out and enjoy a great day of shooting.
URL:http://www.rockvalegunclub.com/event/march-colorado-cowboys-cas-match/
CATEGORIES:CALENDAR,Cowboy Up,HOME PAGE
END:VEVENT
BEGIN:VEVENT
DTSTART;TZID=America/Denver:20240316T080000
DTEND;TZID=America/Denver:20240316T140000
DTSTAMP:20260422T162010
CREATED:20231217T192310Z
LAST-MODIFIED:20240316T000325Z
UID:2225-1710576000-1710597600@www.rockvalegunclub.com
SUMMARY:March Cowboy Action Match Rockvale Bunch - Canceled.
DESCRIPTION:MATCH CANCELED DUE TO RANGE CONDITION. \n\n\n\n~SET UP IS SATURDAY THE DAY OF THE MATCH AT 7:30 or 8:30 AM ALL HELP IS APPRECIATED~ May thru October-SUMMER HOURS 8:00am\, November thru April-WINTER HOURS 9:00AM.     \n\n\n\nSign up begins at 9:00 AM Match begins at 10:00 AM (WINTER HOURS)
URL:http://www.rockvalegunclub.com/event/march-cowboy-action-match-rockvale-bunch/
CATEGORIES:CALENDAR,Cowboy Up,HOME PAGE
END:VEVENT
BEGIN:VEVENT
DTSTART;TZID=America/Denver:20240316T140000
DTEND;TZID=America/Denver:20240316T150000
DTSTAMP:20260422T162010
CREATED:20231217T221415Z
LAST-MODIFIED:20231217T221518Z
UID:2269-1710597600-1710601200@www.rockvalegunclub.com
SUMMARY:MARCH MOUNTHLY CLUB MEETING
DESCRIPTION:The monthly meeting of the Rockvale Gun Club is held on the 3rd Saturday of every month\, the summer hours are 1:00 p.m.\, winter hours 2:00 p.m. at the Rockvale Shooting Range after the shoot.
URL:http://www.rockvalegunclub.com/event/march-mounthly-club-meeting/
CATEGORIES:CALENDAR,CAS,Cowboy Up,HOME PAGE,Monthly Meeting
END:VEVENT
BEGIN:VEVENT
DTSTART;TZID=America/Denver:20240330T080000
DTEND;TZID=America/Denver:20240330T140000
DTSTAMP:20260422T162010
CREATED:20231217T210115Z
LAST-MODIFIED:20231217T230343Z
UID:2253-1711785600-1711807200@www.rockvalegunclub.com
SUMMARY:MARCH MILD BUNCH MATCH
DESCRIPTION:THE ROCKVALE MILD BUNCH MACTCH IS HELD ON THE 5th SATURDAY OF THE MONTH EXCEPT DECEMBER THE MATCH WILL BE ON THE 3rd SATURDAY .      \n\n\n\n~SET UP IS SATURDAY THE DAY OF THE MATCH AT 8:30AM ALL HELP IS APPRECIATED~  \n\n\n\nSign up begins at 9:00 AM Match begins at 10:00 AM
URL:http://www.rockvalegunclub.com/event/march-mild-bunch-match/
CATEGORIES:CALENDAR,Cowboy Up,HOME PAGE
END:VEVENT
END:VCALENDAR