BEGIN:VCALENDAR
VERSION:2.0
PRODID:-//Rockvale Gun Club - ECPv6.0.13.1//NONSGML v1.0//EN
CALSCALE:GREGORIAN
METHOD:PUBLISH
X-WR-CALNAME:Rockvale Gun Club
X-ORIGINAL-URL:http://www.rockvalegunclub.com
X-WR-CALDESC:Events for Rockvale Gun Club
REFRESH-INTERVAL;VALUE=DURATION:PT1H
X-Robots-Tag:noindex
X-PUBLISHED-TTL:PT1H
BEGIN:VTIMEZONE
TZID:America/Denver
BEGIN:DAYLIGHT
TZOFFSETFROM:-0700
TZOFFSETTO:-0600
TZNAME:MDT
DTSTART:20240310T090000
END:DAYLIGHT
BEGIN:STANDARD
TZOFFSETFROM:-0600
TZOFFSETTO:-0700
TZNAME:MST
DTSTART:20241103T080000
END:STANDARD
END:VTIMEZONE
BEGIN:VEVENT
DTSTART;TZID=America/Denver:20240601T080000
DTEND;TZID=America/Denver:20240601T150000
DTSTAMP:20260422T120135
CREATED:20231217T225649Z
LAST-MODIFIED:20231217T230707Z
UID:2301-1717228800-1717254000@www.rockvalegunclub.com
SUMMARY:JUNE COLORADO COWBOYS CAS MATCH
DESCRIPTION:The Colorado Cowboys shoot on the 1st Saturday of the month\, year-round.  We are thankful to the Rockvale Bunch for allowing us to use their range. We look forward to putting on a great match for all cowboy shooters young and old alike.  So come out and enjoy a great day of shooting.
URL:http://www.rockvalegunclub.com/event/june-colorado-cowboys-cas-match/
CATEGORIES:CALENDAR,Cowboy Up,HOME PAGE
END:VEVENT
BEGIN:VEVENT
DTSTART;TZID=America/Denver:20240615T070000
DTEND;TZID=America/Denver:20240615T130000
DTSTAMP:20260422T120135
CREATED:20231217T193842Z
LAST-MODIFIED:20240602T031344Z
UID:2231-1718434800-1718456400@www.rockvalegunclub.com
SUMMARY:JUNE COWBOY ACTION MATCH ROCKVALE BUNCH - CANCELED
DESCRIPTION:THE ROCKVALE COWBOY ACTION MATCH IS HELD ON THE 3RD SATURDAY OF EVERY MONTH.  \n\n\n\n~SET UP IS SATURDAY THE DAY OF THE MATCH AT 7:30 or 8:30 AM ALL HELP IS APPRECIATED~ May thru October-SUMMER HOURS 8:00am\, November thru April-WINTER HOURS 9:00AM.     \n\n\n\nSign up begins at 8:00 AM Match begins at 9:00 AM (SUMMER HOURS)
URL:http://www.rockvalegunclub.com/event/june-cowboy-action-match-rockvale-bunch/
CATEGORIES:CALENDAR,Cowboy Up,HOME PAGE
END:VEVENT
BEGIN:VEVENT
DTSTART;TZID=America/Denver:20240629T070000
DTEND;TZID=America/Denver:20240629T140000
DTSTAMP:20260422T120135
CREATED:20231217T210554Z
LAST-MODIFIED:20231217T230836Z
UID:2255-1719644400-1719669600@www.rockvalegunclub.com
SUMMARY:JUNE MILD BUNCH MATCH
DESCRIPTION:THE ROCKVALE MILD BUNCH MACTCH IS HELD ON THE 5th SATURDAY OF THE MONTH EXCEPT DECEMBER THE MATCH WILL BE ON THE 3rd SATURDAY .      \n\n\n\n~SET UP IS SATURDAY THE DAY OF THE MATCH AT 7:30AM ALL HELP IS APPRECIATED~  \n\n\n\nSign up begins at 8:00 AM Match begins at 9:00 AM
URL:http://www.rockvalegunclub.com/event/june-mild-bunch-match/
CATEGORIES:CALENDAR,Cowboy Up,HOME PAGE
END:VEVENT
BEGIN:VEVENT
DTSTART;TZID=America/Denver:20240629T130000
DTEND;TZID=America/Denver:20240629T140000
DTSTAMP:20260422T120135
CREATED:20231217T222209Z
LAST-MODIFIED:20240728T035737Z
UID:2275-1719666000-1719669600@www.rockvalegunclub.com
SUMMARY:JUNE MONTHLY CLUB MEETING - Changed Date
DESCRIPTION:The monthly meeting of the Rockvale Gun Club for June only\, has been changed this month to the 5th Saturday \, the summer hours are 1:00 p.m.\, winter hours 2:00 p.m. at the Rockvale Shooting Range after the Mild Bunch match.
URL:http://www.rockvalegunclub.com/event/june-mounthly-club-meeting/
CATEGORIES:CALENDAR,CAS,Cowboy Up,HOME PAGE,Monthly Meeting
END:VEVENT
END:VCALENDAR