BEGIN:VCALENDAR
VERSION:2.0
PRODID:-//Rockvale Gun Club - ECPv6.0.13.1//NONSGML v1.0//EN
CALSCALE:GREGORIAN
METHOD:PUBLISH
X-WR-CALNAME:Rockvale Gun Club
X-ORIGINAL-URL:http://www.rockvalegunclub.com
X-WR-CALDESC:Events for Rockvale Gun Club
REFRESH-INTERVAL;VALUE=DURATION:PT1H
X-Robots-Tag:noindex
X-PUBLISHED-TTL:PT1H
BEGIN:VTIMEZONE
TZID:America/Denver
BEGIN:DAYLIGHT
TZOFFSETFROM:-0700
TZOFFSETTO:-0600
TZNAME:MDT
DTSTART:20240310T090000
END:DAYLIGHT
BEGIN:STANDARD
TZOFFSETFROM:-0600
TZOFFSETTO:-0700
TZNAME:MST
DTSTART:20241103T080000
END:STANDARD
END:VTIMEZONE
BEGIN:VEVENT
DTSTART;TZID=America/Denver:20241019T080000
DTEND;TZID=America/Denver:20241019T150000
DTSTAMP:20260422T060843
CREATED:20231217T231816Z
LAST-MODIFIED:20241018T141654Z
UID:2329-1729324800-1729350000@www.rockvalegunclub.com
SUMMARY:OCTOBER COLORADO COWBOYS CAS MATCH - Canceled
DESCRIPTION:This Match has been canceled due to weather.
URL:http://www.rockvalegunclub.com/event/october-colorado-cowboys-cas-match/
CATEGORIES:CALENDAR,Cowboy Up,HOME PAGE
END:VEVENT
BEGIN:VEVENT
DTSTART;TZID=America/Denver:20241019T130000
DTEND;TZID=America/Denver:20241019T140000
DTSTAMP:20260422T060843
CREATED:20231217T223131Z
LAST-MODIFIED:20240728T034933Z
UID:2283-1729342800-1729346400@www.rockvalegunclub.com
SUMMARY:OCTOBER MONTHLY CLUB MEETING
DESCRIPTION:The monthly meeting of the Rockvale Gun Club is held on the 3rd Saturday of every month\, the summer hours are 1:00 p.m.\, winter hours 2:00 p.m. at the Rockvale Shooting Range after the shoot.
URL:http://www.rockvalegunclub.com/event/october-mounthly-club-meeting/
CATEGORIES:CALENDAR,CAS,Cowboy Up,HOME PAGE,Monthly Meeting
END:VEVENT
END:VCALENDAR