BEGIN:VCALENDAR
VERSION:2.0
PRODID:-//Rockvale Gun Club - ECPv6.0.13.1//NONSGML v1.0//EN
CALSCALE:GREGORIAN
METHOD:PUBLISH
X-WR-CALNAME:Rockvale Gun Club
X-ORIGINAL-URL:http://www.rockvalegunclub.com
X-WR-CALDESC:Events for Rockvale Gun Club
REFRESH-INTERVAL;VALUE=DURATION:PT1H
X-Robots-Tag:noindex
X-PUBLISHED-TTL:PT1H
BEGIN:VTIMEZONE
TZID:America/Denver
BEGIN:DAYLIGHT
TZOFFSETFROM:-0700
TZOFFSETTO:-0600
TZNAME:MDT
DTSTART:20240310T090000
END:DAYLIGHT
BEGIN:STANDARD
TZOFFSETFROM:-0600
TZOFFSETTO:-0700
TZNAME:MST
DTSTART:20241103T080000
END:STANDARD
END:VTIMEZONE
BEGIN:VEVENT
DTSTART;TZID=America/Denver:20241116T080000
DTEND;TZID=America/Denver:20241116T150000
DTSTAMP:20260422T044311
CREATED:20231217T231943Z
LAST-MODIFIED:20240728T034730Z
UID:2331-1731744000-1731769200@www.rockvalegunclub.com
SUMMARY:NOVEMBER COLORADO COWBOYS CAS MATCH
DESCRIPTION:The Colorado Cowboys shoot on the 3rd Saturday of the month\, year-round.  We are thankful to the Rockvale Bunch for allowing us to use their range. We look forward to putting on a great match for all cowboy shooters young and old alike.  So come out and enjoy a great day of shooting.
URL:http://www.rockvalegunclub.com/event/november-colorado-cowboys-cas-match/
CATEGORIES:CALENDAR,Cowboy Up,HOME PAGE
END:VEVENT
BEGIN:VEVENT
DTSTART;TZID=America/Denver:20241116T140000
DTEND;TZID=America/Denver:20241116T150000
DTSTAMP:20260422T044311
CREATED:20231217T223313Z
LAST-MODIFIED:20240728T034548Z
UID:2285-1731765600-1731769200@www.rockvalegunclub.com
SUMMARY:NOVEMBER MONTHLY CLUB MEETING
DESCRIPTION:The monthly meeting of the Rockvale Gun Club is held on the 3rd Saturday of every month\, the summer hours are 1:00 p.m.\, winter hours 2:00 p.m. at the Rockvale Shooting Range after the shoot.
URL:http://www.rockvalegunclub.com/event/november-mounthly-club-meeting/
CATEGORIES:CALENDAR,CAS,Cowboy Up,HOME PAGE,Monthly Meeting
END:VEVENT
BEGIN:VEVENT
DTSTART;TZID=America/Denver:20241130T083000
DTEND;TZID=America/Denver:20241130T140000
DTSTAMP:20260422T044311
CREATED:20231217T211026Z
LAST-MODIFIED:20241201T203733Z
UID:2259-1732955400-1732975200@www.rockvalegunclub.com
SUMMARY:NOVEMBER MILD BUNCH MATCH
DESCRIPTION:THE ROCKVALE MILD BUNCH MACTCH IS HELD ON THE 5th SATURDAY OF THE MONTH.  \nSETUP STARTS AT 9:30 ALL HELP IS WELCOME. \nSIGN IN STARTS AT 9:30\, SHOOTING STARTS AT 10:30. \n 
URL:http://www.rockvalegunclub.com/event/november-mild-bunch-match/
CATEGORIES:CALENDAR,Cowboy Up,HOME PAGE
END:VEVENT
END:VCALENDAR