BEGIN:VCALENDAR
VERSION:2.0
PRODID:-//Rockvale Gun Club - ECPv6.0.13.1//NONSGML v1.0//EN
CALSCALE:GREGORIAN
METHOD:PUBLISH
X-ORIGINAL-URL:http://www.rockvalegunclub.com
X-WR-CALDESC:Events for Rockvale Gun Club
REFRESH-INTERVAL;VALUE=DURATION:PT1H
X-Robots-Tag:noindex
X-PUBLISHED-TTL:PT1H
BEGIN:VTIMEZONE
TZID:America/Denver
BEGIN:DAYLIGHT
TZOFFSETFROM:-0700
TZOFFSETTO:-0600
TZNAME:MDT
DTSTART:20240310T090000
END:DAYLIGHT
BEGIN:STANDARD
TZOFFSETFROM:-0600
TZOFFSETTO:-0700
TZNAME:MST
DTSTART:20241103T080000
END:STANDARD
END:VTIMEZONE
BEGIN:VEVENT
DTSTART;TZID=America/Denver:20240217T080000
DTEND;TZID=America/Denver:20240217T140000
DTSTAMP:20260422T190529
CREATED:20231217T191459Z
LAST-MODIFIED:20240217T004733Z
UID:2223-1708156800-1708178400@www.rockvalegunclub.com
SUMMARY:February Cowboy Action Match Rockvale Bunch - CANCELED
DESCRIPTION:FEBRUARY MATCH IS CANCELED DUE TO WEATHER AND RANGE CONDITIONS. \n\n\n\n~SET UP IS SATURDAY THE DAY OF THE MATCH AT 7:30 or 8:30 AM ALL HELP IS APPRECIATED~ May thru October-SUMMER HOURS 8:00am\, November thru April-WINTER HOURS 9:00AM.     \n\n\n\nSign up begins at 9:00 AM Match begins at 10:00 AM (WINTER HOURS)
URL:http://www.rockvalegunclub.com/event/february-cowboy-action-match-rockvale-bunch/
CATEGORIES:CALENDAR,Cowboy Up,HOME PAGE
END:VEVENT
BEGIN:VEVENT
DTSTART;TZID=America/Denver:20240217T140000
DTEND;TZID=America/Denver:20240217T150000
DTSTAMP:20260422T190529
CREATED:20231217T221132Z
LAST-MODIFIED:20231217T221159Z
UID:2267-1708178400-1708182000@www.rockvalegunclub.com
SUMMARY:FEBRUARY MOUNTHLY CLUB MEETING
DESCRIPTION:The monthly meeting of the Rockvale Gun Club is held on the 3rd Saturday of every month\, the summer hours are 1:00 p.m.\, winter hours 2:00 p.m. at the Rockvale Shooting Range after the shoot.
URL:http://www.rockvalegunclub.com/event/february-mounthly-club-meeting/
CATEGORIES:CALENDAR,CAS,Cowboy Up,HOME PAGE,Monthly Meeting
END:VEVENT
END:VCALENDAR