BEGIN:VCALENDAR
VERSION:2.0
PRODID:-//Rockvale Gun Club - ECPv6.0.13.1//NONSGML v1.0//EN
CALSCALE:GREGORIAN
METHOD:PUBLISH
X-WR-CALNAME:Rockvale Gun Club
X-ORIGINAL-URL:http://www.rockvalegunclub.com
X-WR-CALDESC:Events for Rockvale Gun Club
REFRESH-INTERVAL;VALUE=DURATION:PT1H
X-Robots-Tag:noindex
X-PUBLISHED-TTL:PT1H
BEGIN:VTIMEZONE
TZID:America/Denver
BEGIN:DAYLIGHT
TZOFFSETFROM:-0700
TZOFFSETTO:-0600
TZNAME:MDT
DTSTART:20240310T090000
END:DAYLIGHT
BEGIN:STANDARD
TZOFFSETFROM:-0600
TZOFFSETTO:-0700
TZNAME:MST
DTSTART:20241103T080000
END:STANDARD
END:VTIMEZONE
BEGIN:VEVENT
DTSTART;TZID=America/Denver:20240330T080000
DTEND;TZID=America/Denver:20240330T140000
DTSTAMP:20260422T174337
CREATED:20231217T210115Z
LAST-MODIFIED:20231217T230343Z
UID:2253-1711785600-1711807200@www.rockvalegunclub.com
SUMMARY:MARCH MILD BUNCH MATCH
DESCRIPTION:THE ROCKVALE MILD BUNCH MACTCH IS HELD ON THE 5th SATURDAY OF THE MONTH EXCEPT DECEMBER THE MATCH WILL BE ON THE 3rd SATURDAY .      \n\n\n\n~SET UP IS SATURDAY THE DAY OF THE MATCH AT 8:30AM ALL HELP IS APPRECIATED~  \n\n\n\nSign up begins at 9:00 AM Match begins at 10:00 AM
URL:http://www.rockvalegunclub.com/event/march-mild-bunch-match/
CATEGORIES:CALENDAR,Cowboy Up,HOME PAGE
END:VEVENT
END:VCALENDAR