BEGIN:VCALENDAR
VERSION:2.0
PRODID:-//Rockvale Gun Club - ECPv6.0.13.1//NONSGML v1.0//EN
CALSCALE:GREGORIAN
METHOD:PUBLISH
X-ORIGINAL-URL:http://www.rockvalegunclub.com
X-WR-CALDESC:Events for Rockvale Gun Club
REFRESH-INTERVAL;VALUE=DURATION:PT1H
X-Robots-Tag:noindex
X-PUBLISHED-TTL:PT1H
BEGIN:VTIMEZONE
TZID:America/Denver
BEGIN:DAYLIGHT
TZOFFSETFROM:-0700
TZOFFSETTO:-0600
TZNAME:MDT
DTSTART:20220313T090000
END:DAYLIGHT
BEGIN:STANDARD
TZOFFSETFROM:-0600
TZOFFSETTO:-0700
TZNAME:MST
DTSTART:20221106T080000
END:STANDARD
END:VTIMEZONE
BEGIN:VEVENT
DTSTART;TZID=America/Denver:20220917T130000
DTEND;TZID=America/Denver:20220917T140000
DTSTAMP:20260422T162744
CREATED:20220101T225935Z
LAST-MODIFIED:20220814T034023Z
UID:1654-1663419600-1663423200@www.rockvalegunclub.com
SUMMARY:September Monthly Club Meeting
DESCRIPTION:The monthly meeting of the Rockvale Gun Club is held on the 3rd Saturday of every month\, the summer hours are 1:00 p.m.\, winter hours 2:00 p.m. at the Rockvale Shooting Range after the shoot
URL:http://www.rockvalegunclub.com/event/september-monthly-club-meeting-3/
LOCATION:Rockvale Shooting Range\, 215 W. Fremont St.\, Rockvale\, CO\, 81244\, United States
CATEGORIES:CALENDAR,Monthly Meeting
END:VEVENT
END:VCALENDAR