BEGIN:VCALENDAR
VERSION:2.0
PRODID:-//Rockvale Gun Club - ECPv6.0.13.1//NONSGML v1.0//EN
CALSCALE:GREGORIAN
METHOD:PUBLISH
X-WR-CALNAME:Rockvale Gun Club
X-ORIGINAL-URL:http://www.rockvalegunclub.com
X-WR-CALDESC:Events for Rockvale Gun Club
REFRESH-INTERVAL;VALUE=DURATION:PT1H
X-Robots-Tag:noindex
X-PUBLISHED-TTL:PT1H
BEGIN:VTIMEZONE
TZID:Africa/Abidjan
BEGIN:STANDARD
TZOFFSETFROM:+0000
TZOFFSETTO:+0000
TZNAME:GMT
DTSTART:20230101T000000
END:STANDARD
END:VTIMEZONE
BEGIN:VEVENT
DTSTART;TZID=Africa/Abidjan:20230506T080000
DTEND;TZID=Africa/Abidjan:20230506T140000
DTSTAMP:20260422T044553
CREATED:20230312T180520Z
LAST-MODIFIED:20230507T210126Z
UID:1894-1683360000-1683381600@www.rockvalegunclub.com
SUMMARY:May Colorado Cowboys CAS Match 2023
DESCRIPTION:The Colorado Cowboys shoot on the 1st Saturday of the month\, year-round.  We are thankful to the Rockvale Bunch for allowing us to use their range. We look forward to putting on a great match for all cowboy shooters young and old alike.  So come out and enjoy a great day of shooting.
URL:http://www.rockvalegunclub.com/event/may-colorado-cowboys-cas-match-2023/
CATEGORIES:CALENDAR,CAS,Cowboy Up,HOME PAGE,Monthly Meeting
END:VEVENT
END:VCALENDAR